BEGIN:VCALENDAR
VERSION:2.0
PRODID:-//Northeast Louisiana Bar Foundation - ECPv6.15.17//NONSGML v1.0//EN
CALSCALE:GREGORIAN
METHOD:PUBLISH
X-WR-CALNAME:Northeast Louisiana Bar Foundation
X-ORIGINAL-URL:https://nelabar.hostmarketing.site
X-WR-CALDESC:Events for Northeast Louisiana Bar Foundation
REFRESH-INTERVAL;VALUE=DURATION:PT1H
X-Robots-Tag:noindex
X-PUBLISHED-TTL:PT1H
BEGIN:VTIMEZONE
TZID:America/Chicago
BEGIN:DAYLIGHT
TZOFFSETFROM:-0600
TZOFFSETTO:-0500
TZNAME:CDT
DTSTART:20240310T080000
END:DAYLIGHT
BEGIN:STANDARD
TZOFFSETFROM:-0500
TZOFFSETTO:-0600
TZNAME:CST
DTSTART:20241103T070000
END:STANDARD
BEGIN:DAYLIGHT
TZOFFSETFROM:-0600
TZOFFSETTO:-0500
TZNAME:CDT
DTSTART:20250309T080000
END:DAYLIGHT
BEGIN:STANDARD
TZOFFSETFROM:-0500
TZOFFSETTO:-0600
TZNAME:CST
DTSTART:20251102T070000
END:STANDARD
BEGIN:DAYLIGHT
TZOFFSETFROM:-0600
TZOFFSETTO:-0500
TZNAME:CDT
DTSTART:20260308T080000
END:DAYLIGHT
BEGIN:STANDARD
TZOFFSETFROM:-0500
TZOFFSETTO:-0600
TZNAME:CST
DTSTART:20261101T070000
END:STANDARD
BEGIN:DAYLIGHT
TZOFFSETFROM:-0600
TZOFFSETTO:-0500
TZNAME:CDT
DTSTART:20270314T080000
END:DAYLIGHT
BEGIN:STANDARD
TZOFFSETFROM:-0500
TZOFFSETTO:-0600
TZNAME:CST
DTSTART:20271107T070000
END:STANDARD
END:VTIMEZONE
BEGIN:VEVENT
DTSTART;TZID=America/Chicago:20260217T170000
DTEND;TZID=America/Chicago:20260217T190000
DTSTAMP:20260424T011430
CREATED:20251216T194028Z
LAST-MODIFIED:20251216T194028Z
UID:10000005-1771347600-1771354800@nelabar.hostmarketing.site
SUMMARY:Volunteer for Ask A Lawyer Clinic February 17\, 2026
DESCRIPTION:WHEN:  Tuesday\, February 17th\, 2026\nTIME: Intake begins at 4:30\, sessions begin at 5:00\nHOW MUCH? No charge – Free\nWHERE: TBA\nParking: Free Parking
URL:https://nelabar.hostmarketing.site/event/volunteer-for-ask-a-lawyer-clinic-february-17-2026/
LOCATION:LA
CATEGORIES:Attorney Volunteer
ATTACH;FMTTYPE=image/jpeg:https://nelabar.hostmarketing.site/wp-content/uploads/2025/11/IMG_1807-Large-topaz-text-face-denoise-upscale-3.1x_edit.jpg
END:VEVENT
BEGIN:VEVENT
DTSTART;TZID=America/Chicago:20260217T170000
DTEND;TZID=America/Chicago:20260217T190000
DTSTAMP:20260424T011430
CREATED:20251216T165556Z
LAST-MODIFIED:20251216T165556Z
UID:10000003-1771347600-1771354800@nelabar.hostmarketing.site
SUMMARY:Ask A Lawyer Clinic February 17\, 2026
DESCRIPTION:WHEN:  Tuesday\, February 17th\, 2026\nTIME: Intake begins at 4:30\, sessions begin at 5:00\nHOW MUCH? No charge – Free\nWHERE: TBA\nParking: Free Parking
URL:https://nelabar.hostmarketing.site/event/ask-a-lawyer-clinic-february-17-2026/
LOCATION:LA
CATEGORIES:Ask A Lawyer Clinic
ATTACH;FMTTYPE=image/png:https://nelabar.hostmarketing.site/wp-content/uploads/2025/12/free-legal-advice.png
END:VEVENT
BEGIN:VEVENT
DTSTART;TZID=America/Chicago:20260120T170000
DTEND;TZID=America/Chicago:20260120T190000
DTSTAMP:20260424T011430
CREATED:20251216T193700Z
LAST-MODIFIED:20251216T193700Z
UID:10000004-1768928400-1768935600@nelabar.hostmarketing.site
SUMMARY:Volunteer for Ask A Lawyer Clinic January 20\, 2026
DESCRIPTION:WHEN:  Tuesday\, January 20th\, 2026\nTIME: Intake begins at 4:30\, sessions begin at 5:00\nHOW MUCH? No charge – Free\nWHERE: TBA\nParking: Free Parking
URL:https://nelabar.hostmarketing.site/event/volunteer-for-ask-a-lawyer-clinic-january-20-2026/
LOCATION:LA
CATEGORIES:Attorney Volunteer
ATTACH;FMTTYPE=image/jpeg:https://nelabar.hostmarketing.site/wp-content/uploads/2025/11/IMG_1807-Large-topaz-text-face-denoise-upscale-3.1x_edit.jpg
END:VEVENT
BEGIN:VEVENT
DTSTART;TZID=America/Chicago:20260120T170000
DTEND;TZID=America/Chicago:20260120T190000
DTSTAMP:20260424T011430
CREATED:20251215T202613Z
LAST-MODIFIED:20251216T165036Z
UID:10000002-1768928400-1768935600@nelabar.hostmarketing.site
SUMMARY:Ask A Lawyer Clinic January 20\, 2026
DESCRIPTION:WHEN:  Tuesday\, January 20th\, 2026\nTIME: Intake begins at 4:30\, sessions begin at 5:00\nHOW MUCH? No charge – Free\nWHERE: TBA\nParking: Free Parking
URL:https://nelabar.hostmarketing.site/event/ask-a-lawyer-clinic-january-20-2026/
LOCATION:LA
CATEGORIES:Ask A Lawyer Clinic
ATTACH;FMTTYPE=image/png:https://nelabar.hostmarketing.site/wp-content/uploads/2025/12/free-legal-advice.png
END:VEVENT
BEGIN:VEVENT
DTSTART;TZID=America/Chicago:20251216T170000
DTEND;TZID=America/Chicago:20251216T190000
DTSTAMP:20260424T011430
CREATED:20251215T200015Z
LAST-MODIFIED:20251216T165110Z
UID:10000001-1765904400-1765911600@nelabar.hostmarketing.site
SUMMARY:Ask A Lawyer Clinic December 16\, 2025
DESCRIPTION:WHEN:  Tuesday\, December 16th\, 2025\nTIME: Intake begins at 4:30\, sessions begin at 5:00\nHOW MUCH? No charge – Free\nWHERE: Emily P. Robinson Community Center\n3504 Jackson St\, Monroe\, LA\nParking: Free Parking
URL:https://nelabar.hostmarketing.site/event/ask-a-lawyer-clinic-december-16-2025/
LOCATION:Emily P. Robinson Community Center\, 3504 Jackson St.\, Monroe\, LA\, 71202\, United States
CATEGORIES:Ask A Lawyer Clinic
ATTACH;FMTTYPE=image/png:https://nelabar.hostmarketing.site/wp-content/uploads/2025/12/free-legal-advice.png
END:VEVENT
END:VCALENDAR